BEGIN:VCALENDAR
VERSION:2.0
PRODID:-//MedFringe - ECPv6.15.20//NONSGML v1.0//EN
CALSCALE:GREGORIAN
METHOD:PUBLISH
X-WR-CALNAME:MedFringe
X-ORIGINAL-URL:https://medfringe.com
X-WR-CALDESC:Events for MedFringe
REFRESH-INTERVAL;VALUE=DURATION:PT1H
X-Robots-Tag:noindex
X-PUBLISHED-TTL:PT1H
BEGIN:VTIMEZONE
TZID:Europe/London
BEGIN:DAYLIGHT
TZOFFSETFROM:+0000
TZOFFSETTO:+0100
TZNAME:BST
DTSTART:20250330T010000
END:DAYLIGHT
BEGIN:STANDARD
TZOFFSETFROM:+0100
TZOFFSETTO:+0000
TZNAME:GMT
DTSTART:20251026T010000
END:STANDARD
BEGIN:DAYLIGHT
TZOFFSETFROM:+0000
TZOFFSETTO:+0100
TZNAME:BST
DTSTART:20260329T010000
END:DAYLIGHT
BEGIN:STANDARD
TZOFFSETFROM:+0100
TZOFFSETTO:+0000
TZNAME:GMT
DTSTART:20261025T010000
END:STANDARD
BEGIN:DAYLIGHT
TZOFFSETFROM:+0000
TZOFFSETTO:+0100
TZNAME:BST
DTSTART:20270328T010000
END:DAYLIGHT
BEGIN:STANDARD
TZOFFSETFROM:+0100
TZOFFSETTO:+0000
TZNAME:GMT
DTSTART:20271031T010000
END:STANDARD
END:VTIMEZONE
BEGIN:VEVENT
DTSTART;TZID=Europe/London:20260719T190000
DTEND;TZID=Europe/London:20260719T190000
DTSTAMP:20260424T011127
CREATED:20260418T134713Z
LAST-MODIFIED:20260420T211125Z
UID:190-1784487600-1784487600@medfringe.com
SUMMARY:Macbeth - Regenerated
DESCRIPTION:The Macbeth you know\, told in a brand new way! Stand by for an exciting retelling of Shakespeare’s classic tale of a fight for power. \nRating: Family-Friendly
URL:https://medfringe.com/event/macbeth-regenerated-4/
LOCATION:Spotlites Theatre\, 338 High St\, Chatham\, Kent\, ME4 4NR\, United Kingdom
CATEGORIES:Theatre
ATTACH;FMTTYPE=image/jpeg:https://medfringe.com/wp-content/uploads/2026/04/Macbeth-Regenerated.jpg
ORGANIZER;CN="Spotlites Youth Theatre":MAILTO:takepart@spotlites.co.uk
END:VEVENT
BEGIN:VEVENT
DTSTART;TZID=Europe/London:20260719T190000
DTEND;TZID=Europe/London:20260719T190000
DTSTAMP:20260424T011127
CREATED:20260420T205152Z
LAST-MODIFIED:20260420T214053Z
UID:237-1784487600-1784487600@medfringe.com
SUMMARY:The Godless Reds 25th Anniversary Show
DESCRIPTION:‘The Godless Reds are a spiky indie punk force forged through years of noise\, friendship\, and reinvention. Led by principal songwriter Justin Chisnall—aka Justin Fun—alongside Dan O’Blivion (Dan Purton) on drums and Antmonkey (Anthony Martin) on bass\, the band blends raw energy with sharp songwriting. Having shared stages with Chumbawumba and Reuben\, their journey has evolved into something deeper: a family as much as a band. After a quieter spell\, a creative resurgence has reignited their fire. Expect two 45-minute sets of entirely original material—one stripped-back acoustic\, one full-throttle punk. Urgent\, honest\, and not to be missed.’
URL:https://medfringe.com/event/the-godless-reds-25th-anniversary-show/
LOCATION:Poco Loco\, 58 - 60 High Street\, Chatham\, Kent\, ME4 4DS\, United Kingdom
CATEGORIES:Music
END:VEVENT
END:VCALENDAR