BEGIN:VCALENDAR
VERSION:2.0
PRODID:-//MedFringe - ECPv6.15.20//NONSGML v1.0//EN
CALSCALE:GREGORIAN
METHOD:PUBLISH
X-ORIGINAL-URL:https://medfringe.com
X-WR-CALDESC:Events for MedFringe
REFRESH-INTERVAL;VALUE=DURATION:PT1H
X-Robots-Tag:noindex
X-PUBLISHED-TTL:PT1H
BEGIN:VTIMEZONE
TZID:Europe/London
BEGIN:DAYLIGHT
TZOFFSETFROM:+0000
TZOFFSETTO:+0100
TZNAME:BST
DTSTART:20250330T010000
END:DAYLIGHT
BEGIN:STANDARD
TZOFFSETFROM:+0100
TZOFFSETTO:+0000
TZNAME:GMT
DTSTART:20251026T010000
END:STANDARD
BEGIN:DAYLIGHT
TZOFFSETFROM:+0000
TZOFFSETTO:+0100
TZNAME:BST
DTSTART:20260329T010000
END:DAYLIGHT
BEGIN:STANDARD
TZOFFSETFROM:+0100
TZOFFSETTO:+0000
TZNAME:GMT
DTSTART:20261025T010000
END:STANDARD
BEGIN:DAYLIGHT
TZOFFSETFROM:+0000
TZOFFSETTO:+0100
TZNAME:BST
DTSTART:20270328T010000
END:DAYLIGHT
BEGIN:STANDARD
TZOFFSETFROM:+0100
TZOFFSETTO:+0000
TZNAME:GMT
DTSTART:20271031T010000
END:STANDARD
END:VTIMEZONE
BEGIN:VEVENT
DTSTART;TZID=Europe/London:20260705T180000
DTEND;TZID=Europe/London:20260705T190000
DTSTAMP:20260423T010334
CREATED:20260420T173542Z
LAST-MODIFIED:20260420T211442Z
UID:225-1783274400-1783278000@medfringe.com
SUMMARY:Misery and Apples
DESCRIPTION:Misery and Apples\n\n\n\nThrough stories and music we encounter death in many guises. What then will remain when all is said and done? Blending autobiography\, folk tale\, and live music\, Diana Redgrave explores our relationship with death. Do we fight it\, trick it\, run from it or accept it? Could an apple a day keep death at bay?
URL:https://medfringe.com/event/misery-and-apples-2/
LOCATION:Spotlites Theatre\, 338 High St\, Chatham\, Kent\, ME4 4NR\, United Kingdom
CATEGORIES:Theatre
ATTACH;FMTTYPE=image/jpeg:https://medfringe.com/wp-content/uploads/2026/04/Misery-and-Apples-scaled.jpg
END:VEVENT
BEGIN:VEVENT
DTSTART;TZID=Europe/London:20260710T190000
DTEND;TZID=Europe/London:20260710T190000
DTSTAMP:20260423T010334
CREATED:20260418T134712Z
LAST-MODIFIED:20260420T211802Z
UID:189-1783710000-1783710000@medfringe.com
SUMMARY:Macbeth - Regenerated
DESCRIPTION:The Macbeth you know\, told in a brand new way! Stand by for an exciting retelling of Shakespeare’s classic tale of a fight for power. \nRating: Family-friendly
URL:https://medfringe.com/event/macbeth-regenerated-3/
LOCATION:Spotlites Theatre\, 338 High St\, Chatham\, Kent\, ME4 4NR\, United Kingdom
CATEGORIES:Theatre
ATTACH;FMTTYPE=image/jpeg:https://medfringe.com/wp-content/uploads/2026/04/Macbeth-Regenerated.jpg
END:VEVENT
BEGIN:VEVENT
DTSTART;TZID=Europe/London:20260714T193000
DTEND;TZID=Europe/London:20260714T193000
DTSTAMP:20260423T010334
CREATED:20260418T134712Z
LAST-MODIFIED:20260420T212323Z
UID:187-1784057400-1784057400@medfringe.com
SUMMARY:The Shawshank Redemption - Workshop
DESCRIPTION:An evening becoming acquainted with the stage version of the classic film The Shawshank Redemption for production in November 2026 being produced at Spotlites Theatre. A great opportunity to prep for auditions. \nRating: 18+ (explicit adult themes)
URL:https://medfringe.com/event/the-shawshank-redemption-workshop-2/
LOCATION:Spotlites Theatre\, 338 High St\, Chatham\, Kent\, ME4 4NR\, United Kingdom
CATEGORIES:Theatre,Workshop
END:VEVENT
BEGIN:VEVENT
DTSTART;TZID=Europe/London:20260715T193000
DTEND;TZID=Europe/London:20260715T210000
DTSTAMP:20260423T010334
CREATED:20260417T144553Z
LAST-MODIFIED:20260420T214540Z
UID:44-1784143800-1784149200@medfringe.com
SUMMARY:Kit the Musical by Julian Ng
DESCRIPTION:Christopher Marlowe was born in Canterbury in 1564.  After an illustrious education at the King’s School and the University of Cambridge\, he went on to define the plays of the Elizabethan period with his use of blank verse and his daring (and dangerous) subject matters.  At the age of 29\, he was supposedly killed in a rooming house in Deptford. Was it a brawling accident\, or was it an assassination? Marlowe was rumoured to be a spy for Queen Elizabeth I. Did someone want him dead? Did he know things he should not have? Was it because he dared to think atheist thoughts? Or\, was it a love triangle that got him killed? \nSome believe that Marlowe didn’t die after all…  so\, what did happen? \nThis original British musical was conceived and written by Julian Ng\, and will premiere in its entirety as a concert at the inaugural Medway Fringe 2026. \nRating: 13+ (not for children but OK for teens) \nBuy Tickets
URL:https://medfringe.com/event/kit-the-musical-by-julian-ng/
LOCATION:Spotlites Theatre\, 338 High St\, Chatham\, Kent\, ME4 4NR\, United Kingdom
CATEGORIES:Concert,Musical
ATTACH;FMTTYPE=image/png:https://medfringe.com/wp-content/uploads/2026/03/kit2026-web.png
ORGANIZER;CN="Spotlites Theatre":MAILTO:takepart@spotlites.co.uk
END:VEVENT
BEGIN:VEVENT
DTSTART;TZID=Europe/London:20260716T193000
DTEND;TZID=Europe/London:20260716T193000
DTSTAMP:20260423T010334
CREATED:20260418T134657Z
LAST-MODIFIED:20260420T212125Z
UID:181-1784230200-1784230200@medfringe.com
SUMMARY:Pierrepoint: The People's Hangman
DESCRIPTION:Albert Pierrepoint was an English hangman who executed an estimated 435 people in a 25-year career with HMP Prisons between the 1930s and 1950s. During his tenure\, he was responsible for the executions of several high-profile murderers including the Acid Bath Killer – John Haigh\, and Ruth Ellis – the last woman to be hung in England. Another was the case of one John Reginald Christie of 10 Rillington Place infamy. Through the executioner’s eyes\, this theatrical production dissects and scrutinises Christie’s crimes and examines how he came to be on the end of a rope. \nRating: 15+ (moderate adult themes)
URL:https://medfringe.com/event/pierrepoint-the-peoples-hangman-2/
LOCATION:Spotlites Theatre\, 338 High St\, Chatham\, Kent\, ME4 4NR\, United Kingdom
CATEGORIES:Theatre
ATTACH;FMTTYPE=image/jpeg:https://medfringe.com/wp-content/uploads/2026/04/pierrepoint.jpeg
END:VEVENT
BEGIN:VEVENT
DTSTART;TZID=Europe/London:20260718T150000
DTEND;TZID=Europe/London:20260718T150000
DTSTAMP:20260423T010334
CREATED:20260418T134727Z
LAST-MODIFIED:20260420T210326Z
UID:196-1784386800-1784386800@medfringe.com
SUMMARY:Spotlites Night at the Musicals
DESCRIPTION:A delightfully light musical showcase of your your favorite numbers\, new and old. With songs\, dances and lashings of charm\, this show will cerainly bring a smile. This is a community cast of variying ages with thier eyes and future set on the stars. Come and enjoy the glow and help them shine. \nRating: 13+ (not for children but OK for teens)
URL:https://medfringe.com/event/spotlites-night-at-the-musicals-2/
LOCATION:Spotlites Theatre\, 338 High St\, Chatham\, Kent\, ME4 4NR\, United Kingdom
CATEGORIES:Musical,Theatre
ATTACH;FMTTYPE=image/jpeg:https://medfringe.com/wp-content/uploads/2026/04/Spotlites-Night-at-the-Musicals.jpg
END:VEVENT
BEGIN:VEVENT
DTSTART;TZID=Europe/London:20260719T190000
DTEND;TZID=Europe/London:20260719T190000
DTSTAMP:20260423T010334
CREATED:20260418T134713Z
LAST-MODIFIED:20260420T211125Z
UID:190-1784487600-1784487600@medfringe.com
SUMMARY:Macbeth - Regenerated
DESCRIPTION:The Macbeth you know\, told in a brand new way! Stand by for an exciting retelling of Shakespeare’s classic tale of a fight for power. \nRating: Family-Friendly
URL:https://medfringe.com/event/macbeth-regenerated-4/
LOCATION:Spotlites Theatre\, 338 High St\, Chatham\, Kent\, ME4 4NR\, United Kingdom
CATEGORIES:Theatre
ATTACH;FMTTYPE=image/jpeg:https://medfringe.com/wp-content/uploads/2026/04/Macbeth-Regenerated.jpg
ORGANIZER;CN="Spotlites Youth Theatre":MAILTO:takepart@spotlites.co.uk
END:VEVENT
END:VCALENDAR