BEGIN:VCALENDAR
VERSION:2.0
PRODID:-//MedFringe - ECPv6.15.20//NONSGML v1.0//EN
CALSCALE:GREGORIAN
METHOD:PUBLISH
X-ORIGINAL-URL:https://medfringe.com
X-WR-CALDESC:Events for MedFringe
REFRESH-INTERVAL;VALUE=DURATION:PT1H
X-Robots-Tag:noindex
X-PUBLISHED-TTL:PT1H
BEGIN:VTIMEZONE
TZID:Europe/London
BEGIN:DAYLIGHT
TZOFFSETFROM:+0000
TZOFFSETTO:+0100
TZNAME:BST
DTSTART:20250330T010000
END:DAYLIGHT
BEGIN:STANDARD
TZOFFSETFROM:+0100
TZOFFSETTO:+0000
TZNAME:GMT
DTSTART:20251026T010000
END:STANDARD
BEGIN:DAYLIGHT
TZOFFSETFROM:+0000
TZOFFSETTO:+0100
TZNAME:BST
DTSTART:20260329T010000
END:DAYLIGHT
BEGIN:STANDARD
TZOFFSETFROM:+0100
TZOFFSETTO:+0000
TZNAME:GMT
DTSTART:20261025T010000
END:STANDARD
BEGIN:DAYLIGHT
TZOFFSETFROM:+0000
TZOFFSETTO:+0100
TZNAME:BST
DTSTART:20270328T010000
END:DAYLIGHT
BEGIN:STANDARD
TZOFFSETFROM:+0100
TZOFFSETTO:+0000
TZNAME:GMT
DTSTART:20271031T010000
END:STANDARD
END:VTIMEZONE
BEGIN:VEVENT
DTSTART;TZID=Europe/London:20260716T200000
DTEND;TZID=Europe/London:20260716T200000
DTSTAMP:20260423T200112
CREATED:20260418T134657Z
LAST-MODIFIED:20260418T134657Z
UID:177-1784232000-1784232000@medfringe.com
SUMMARY:Aaron Simmonds: Death
DESCRIPTION:A stand up comedy show from a comedian that cannot stand up. A show all about death that is truly life affirming. And a third thing. Aaron Simmonds\, as seen on QI (BBC2)\, Russell Howard Hour (Sky1)\, Stand Up Sketch Show (ITV) and more has been an award-winning comedian for over a decade\, entertaining audiences across the UK\, and yet\, he maintains the funniest thing he’s ever done was at a funeral.
URL:https://medfringe.com/event/aaron-simmonds-death-2/
LOCATION:Fort Luton\, Magpie Hall Road\, Chatham\, Kent\, ME4 5XJ\, United Kingdom
CATEGORIES:Comedy
END:VEVENT
BEGIN:VEVENT
DTSTART;TZID=Europe/London:20260716T200000
DTEND;TZID=Europe/London:20260716T200000
DTSTAMP:20260423T200112
CREATED:20260418T134727Z
LAST-MODIFIED:20260420T213742Z
UID:192-1784232000-1784232000@medfringe.com
SUMMARY:Where There's A Will...
DESCRIPTION:Join Will DC (Loosey Goosey)\, Will Reid (Chaucer’s Chuckles) and Sam Lee Diplock (Top Secret Comedy) as they dissect modern life and it’s struggle in the beautiful local venue of Poco Loco The combination of Sam’s dark and cutting world view\, Will DC’s parodying of modern life and audio distortion and Will Reid’s quick wit and high tempo will keep you laughing for the full hour! \nRating: 15+ (moderate adult themes)
URL:https://medfringe.com/event/where-theres-a-will-2/
LOCATION:Poco Loco\, 58 - 60 High Street\, Chatham\, Kent\, ME4 4DS\, United Kingdom
CATEGORIES:Comedy
END:VEVENT
BEGIN:VEVENT
DTSTART;TZID=Europe/London:20260717T180000
DTEND;TZID=Europe/London:20260717T180000
DTSTAMP:20260423T200112
CREATED:20260420T205151Z
LAST-MODIFIED:20260420T211251Z
UID:234-1784311200-1784311200@medfringe.com
SUMMARY:Richard Pulsford; Yorkshire Dad\, Immigrant Mum
DESCRIPTION:Multi award-winning stand-up comedian Richard Pulsford takes a nostalgic no holds barred tour into his parents’ past to try to understand how it made them who they were\, and therefore the person who he is. With a dad from Yorkshire and a ‘foreign’ mum maybe it shouldn’t be a surprise that Richard ended up being\, well\, ‘funny’. \nRating: 15+ (moderate adult themes)
URL:https://medfringe.com/event/richard-pulsford-yorkshire-dad-immigrant-mum-2/
LOCATION:Spotlites Theatre\, 338 High St\, Chatham\, Kent\, ME4 4NR\, United Kingdom
CATEGORIES:Comedy
ATTACH;FMTTYPE=image/jpeg:https://medfringe.com/wp-content/uploads/2026/04/Richard-Pulsford-Yorkshire-Dad-Immigrant-Mum-343-sq.jpg
END:VEVENT
BEGIN:VEVENT
DTSTART;TZID=Europe/London:20260717T190000
DTEND;TZID=Europe/London:20260717T190000
DTSTAMP:20260423T200112
CREATED:20260418T134657Z
LAST-MODIFIED:20260422T132731Z
UID:178-1784314800-1784314800@medfringe.com
SUMMARY:The People Pleaser
DESCRIPTION:Jade Gebbie (British Comedy Guide Performance Award Finalist 2025) has always been a people-pleaser\, but now that she’s hit her mid-thirties\, she’s delving into how it’s held her back\, annoyed her loved ones\, and why overthinking fictional scenarios isn’t an excuse for missing a work meeting. Come along to this debut from Jade for fun\, laughter and a bit of anxiety… after all\, she is a millennial. \nRating: 15+ (moderate adult themes)
URL:https://medfringe.com/event/the-people-pleaser-2/
LOCATION:Fort Luton\, Magpie Hall Road\, Chatham\, Kent\, ME4 5XJ\, United Kingdom
CATEGORIES:Comedy
ATTACH;FMTTYPE=image/png:https://medfringe.com/wp-content/uploads/2026/04/Jade-Gebbie-Website-Image.png
END:VEVENT
BEGIN:VEVENT
DTSTART;TZID=Europe/London:20260717T193000
DTEND;TZID=Europe/London:20260717T193000
DTSTAMP:20260423T200112
CREATED:20260420T205151Z
LAST-MODIFIED:20260420T210755Z
UID:233-1784316600-1784316600@medfringe.com
SUMMARY:Richard Pulsford: Gold Fashioned Jokes
DESCRIPTION:One-liners and quality light-hearted jokes from the UK Pun Championships winner 2022\, Scottish Comedian of the Year runner-up 2021 & You Must Be Joke King winner 2024. \nNominated best stand-up\, Buxton Fringe 2023. 3x Top 10 Jokes Edinburgh Fringe 2019-2023. As seen on Channel 4’s Steph’s Packed Lunch. \n‘Exudes confidence and charm’ 5* (Lancaster Guardian) \n‘Quick\, original and funny’ 4* (Broadway Baby) \nRating: 13+ (not for children but OK for teens)
URL:https://medfringe.com/event/richard-pulsford-gold-fashioned-jokes-2/
LOCATION:Spotlites Theatre\, 338 High St\, Chatham\, Kent\, ME4 4NR\, United Kingdom
CATEGORIES:Comedy
ATTACH;FMTTYPE=image/jpeg:https://medfringe.com/wp-content/uploads/2026/04/Richard-Pulsford-Gold-Fashioned-Jokes-343sq.jpg
END:VEVENT
BEGIN:VEVENT
DTSTART;TZID=Europe/London:20260718T170000
DTEND;TZID=Europe/London:20260718T170000
DTSTAMP:20260423T200112
CREATED:20260418T134657Z
LAST-MODIFIED:20260420T213426Z
UID:180-1784394000-1784394000@medfringe.com
SUMMARY:Twins
DESCRIPTION:This is a Stand up Comedy split bill with a twist\, it is performed by Chris and Matthew Ali who are twins. We are spitting images of each other with one twin who is straight and one who is gay. \nWe both started stand up comedy at the same time 4 years ago and have been honing our craft independently for that time and are now coming together to bring one show. We will be doing a set each of our own stand up material and a section where we will be doing a double act and interacting with the audience. \nIt’s a unique show brought by two people who look the same. \nRating: 15+ (moderate adult themes)
URL:https://medfringe.com/event/twins-2/
LOCATION:Fort Luton\, Magpie Hall Road\, Chatham\, Kent\, ME4 5XJ\, United Kingdom
CATEGORIES:Comedy
ATTACH;FMTTYPE=image/jpeg:https://medfringe.com/wp-content/uploads/2026/04/twins.jpg
END:VEVENT
BEGIN:VEVENT
DTSTART;TZID=Europe/London:20260718T173000
DTEND;TZID=Europe/London:20260718T173000
DTSTAMP:20260423T200112
CREATED:20260418T134727Z
LAST-MODIFIED:20260420T210925Z
UID:195-1784395800-1784395800@medfringe.com
SUMMARY:Jaz Mattu Fights His Audience
DESCRIPTION:In my comedy career\, work life\, and actual life\, people have tried to fight me. Jaz Mattu Fights His Audience is a show about all those moments and how I navigate conflict\, presented as an absurd\, multimedia stand-up experience blending clown\, music\, and theatre. Please don’t try to fight me during the show. “Truly unique.” (ENTERTAINMENT NOW ★★★★) “Ambitious and innovative.” (FEST)
URL:https://medfringe.com/event/jaz-mattu-fights-his-audience-4/
LOCATION:Spotlites Theatre\, 338 High St\, Chatham\, Kent\, ME4 4NR\, United Kingdom
CATEGORIES:Comedy
ATTACH;FMTTYPE=image/jpeg:https://medfringe.com/wp-content/uploads/2026/04/Jaz-Mattu-scaled.jpg
END:VEVENT
BEGIN:VEVENT
DTSTART;TZID=Europe/London:20260718T190000
DTEND;TZID=Europe/London:20260718T190000
DTSTAMP:20260423T200112
CREATED:20260418T134657Z
LAST-MODIFIED:20260418T135453Z
UID:179-1784401200-1784401200@medfringe.com
SUMMARY:Dave Bailey-able to cope
DESCRIPTION:Modern life is overwhelming\, let Multi-Award Winning Comedian\, Dave Bailey help. You’ll either think “I DO THAT TO” or more likely\, “MY LIFE IS BAD BUT AT LEAST I’M NOT THAT GUY.” * Canterbury International Arts Festival Competition Winner * Comedy Cafe New Act Compeition Winner Quotes about Dave: a real knack of timing….Bailey is the one to watch. The Argus Newspaper Brighton.
URL:https://medfringe.com/event/dave-bailey-able-to-cope-2/
LOCATION:Fort Luton\, Magpie Hall Road\, Chatham\, Kent\, ME4 5XJ\, United Kingdom
CATEGORIES:Comedy
END:VEVENT
END:VCALENDAR