BEGIN:VCALENDAR
VERSION:2.0
PRODID:-//MedFringe - ECPv6.15.20//NONSGML v1.0//EN
CALSCALE:GREGORIAN
METHOD:PUBLISH
X-ORIGINAL-URL:https://medfringe.com
X-WR-CALDESC:Events for MedFringe
REFRESH-INTERVAL;VALUE=DURATION:PT1H
X-Robots-Tag:noindex
X-PUBLISHED-TTL:PT1H
BEGIN:VTIMEZONE
TZID:Europe/London
BEGIN:DAYLIGHT
TZOFFSETFROM:+0000
TZOFFSETTO:+0100
TZNAME:BST
DTSTART:20250330T010000
END:DAYLIGHT
BEGIN:STANDARD
TZOFFSETFROM:+0100
TZOFFSETTO:+0000
TZNAME:GMT
DTSTART:20251026T010000
END:STANDARD
BEGIN:DAYLIGHT
TZOFFSETFROM:+0000
TZOFFSETTO:+0100
TZNAME:BST
DTSTART:20260329T010000
END:DAYLIGHT
BEGIN:STANDARD
TZOFFSETFROM:+0100
TZOFFSETTO:+0000
TZNAME:GMT
DTSTART:20261025T010000
END:STANDARD
BEGIN:DAYLIGHT
TZOFFSETFROM:+0000
TZOFFSETTO:+0100
TZNAME:BST
DTSTART:20270328T010000
END:DAYLIGHT
BEGIN:STANDARD
TZOFFSETFROM:+0100
TZOFFSETTO:+0000
TZNAME:GMT
DTSTART:20271031T010000
END:STANDARD
END:VTIMEZONE
BEGIN:VEVENT
DTSTART;TZID=Europe/London:20260705T140000
DTEND;TZID=Europe/London:20260705T140000
DTSTAMP:20260423T233438
CREATED:20260418T134655Z
LAST-MODIFIED:20260422T132612Z
UID:174-1783260000-1783260000@medfringe.com
SUMMARY:Madame Chandelier's Grand Theft Opera
DESCRIPTION:When Madame Chandelier’s daughter gets sucked into her video game and is kidnapped by the evil Queen of the Night\, there’s only one thing to do – gather opera’s fiercest characters for an epic battle. Will Carmen\, Tosca\, and Madame Butterfly help defeat the ultimate boss\, or will all arias lead to death? “Expert Timing” **** Guardian
URL:https://medfringe.com/event/madame-chandeliers-grand-theft-opera-2/
LOCATION:Fort Luton\, Magpie Hall Road\, Chatham\, Kent\, ME4 5XJ\, United Kingdom
CATEGORIES:Comedy
ATTACH;FMTTYPE=image/jpeg:https://medfringe.com/wp-content/uploads/2026/04/Madame-Chandelier-driving-sword-up-fringe-reg-image-square-scaled.jpg
END:VEVENT
END:VCALENDAR