BEGIN:VCALENDAR
VERSION:2.0
PRODID:-//MedFringe - ECPv6.15.20//NONSGML v1.0//EN
CALSCALE:GREGORIAN
METHOD:PUBLISH
X-ORIGINAL-URL:https://medfringe.com
X-WR-CALDESC:Events for MedFringe
REFRESH-INTERVAL;VALUE=DURATION:PT1H
X-Robots-Tag:noindex
X-PUBLISHED-TTL:PT1H
BEGIN:VTIMEZONE
TZID:Europe/London
BEGIN:DAYLIGHT
TZOFFSETFROM:+0000
TZOFFSETTO:+0100
TZNAME:BST
DTSTART:20250330T010000
END:DAYLIGHT
BEGIN:STANDARD
TZOFFSETFROM:+0100
TZOFFSETTO:+0000
TZNAME:GMT
DTSTART:20251026T010000
END:STANDARD
BEGIN:DAYLIGHT
TZOFFSETFROM:+0000
TZOFFSETTO:+0100
TZNAME:BST
DTSTART:20260329T010000
END:DAYLIGHT
BEGIN:STANDARD
TZOFFSETFROM:+0100
TZOFFSETTO:+0000
TZNAME:GMT
DTSTART:20261025T010000
END:STANDARD
BEGIN:DAYLIGHT
TZOFFSETFROM:+0000
TZOFFSETTO:+0100
TZNAME:BST
DTSTART:20270328T010000
END:DAYLIGHT
BEGIN:STANDARD
TZOFFSETFROM:+0100
TZOFFSETTO:+0000
TZNAME:GMT
DTSTART:20271031T010000
END:STANDARD
END:VTIMEZONE
BEGIN:VEVENT
DTSTART;TZID=Europe/London:20260706T200000
DTEND;TZID=Europe/London:20260706T200000
DTSTAMP:20260423T232956
CREATED:20260418T134713Z
LAST-MODIFIED:20260418T134713Z
UID:191-1783368000-1783368000@medfringe.com
SUMMARY:Rachel Creeger: "Queen of the Jews!"
DESCRIPTION:After the dramatic cancellation of her show at the Edinburgh Fringe last year\, multi-award-winning comedian Rachel Creeger presents her brand new show\, a brutally warm\, darkly funny exploration of racism v Rachism – or when it’s paranoia\, and when they’re really out to get you. ★★★★ “There is a huge scope for humour around culture and religion. Rachel Creeger is the pinnacle of this.” Funny Women
URL:https://medfringe.com/event/rachel-creeger-queen-of-the-jews-2/
LOCATION:Fort Luton\, Magpie Hall Road\, Chatham\, Kent\, ME4 5XJ\, United Kingdom
CATEGORIES:Comedy
END:VEVENT
END:VCALENDAR